BEGIN:VCALENDAR
VERSION:2.0
PRODID:-//INWIC - ECPv6.10.1.1//NONSGML v1.0//EN
CALSCALE:GREGORIAN
METHOD:PUBLISH
X-ORIGINAL-URL:https://www.inwic.org
X-WR-CALDESC:Events for INWIC
REFRESH-INTERVAL;VALUE=DURATION:PT1H
X-Robots-Tag:noindex
X-PUBLISHED-TTL:PT1H
BEGIN:VTIMEZONE
TZID:Europe/London
BEGIN:DAYLIGHT
TZOFFSETFROM:+0000
TZOFFSETTO:+0100
TZNAME:BST
DTSTART:20240331T010000
END:DAYLIGHT
BEGIN:STANDARD
TZOFFSETFROM:+0100
TZOFFSETTO:+0000
TZNAME:GMT
DTSTART:20241027T010000
END:STANDARD
END:VTIMEZONE
BEGIN:VEVENT
DTSTART;VALUE=DATE:20240912
DTEND;VALUE=DATE:20240914
DTSTAMP:20260419T161611
CREATED:20240522T144459Z
LAST-MODIFIED:20240523T080559Z
UID:2382-1726099200-1726271999@www.inwic.org
SUMMARY:HVAC Innovation Conference
DESCRIPTION:INWIC will participate in the HVAC Innovation Conference 2024 held in Brisbane on September 12 and 13\, combining the long-running Future of HVAC Conference\, Building Physics Forum and Big Data and Analytics Forum.
URL:https://www.inwic.org/event/hvac-innovation-conference/
LOCATION:Brisbane\, Queensland\, Australia
CATEGORIES:Conferences
ATTACH;FMTTYPE=image/png:https://www.inwic.org/wp-content/uploads/2024/05/Screenshot-2024-05-22-at-16-42-51-HVAC-Innovation.png
END:VEVENT
END:VCALENDAR