BEGIN:VCALENDAR
VERSION:2.0
PRODID:-//INWIC - ECPv6.10.1.1//NONSGML v1.0//EN
CALSCALE:GREGORIAN
METHOD:PUBLISH
X-WR-CALNAME:INWIC
X-ORIGINAL-URL:https://www.inwic.org
X-WR-CALDESC:Events for INWIC
REFRESH-INTERVAL;VALUE=DURATION:PT1H
X-Robots-Tag:noindex
X-PUBLISHED-TTL:PT1H
BEGIN:VTIMEZONE
TZID:Australia/Melbourne
BEGIN:STANDARD
TZOFFSETFROM:+1100
TZOFFSETTO:+1000
TZNAME:AEST
DTSTART:20230401T160000
END:STANDARD
BEGIN:DAYLIGHT
TZOFFSETFROM:+1000
TZOFFSETTO:+1100
TZNAME:AEDT
DTSTART:20230930T160000
END:DAYLIGHT
END:VTIMEZONE
BEGIN:VEVENT
DTSTART;VALUE=DATE:20230913
DTEND;VALUE=DATE:20230915
DTSTAMP:20260421T103533
CREATED:20230329T141436Z
LAST-MODIFIED:20230430T145122Z
UID:752-1694563200-1694735999@www.inwic.org
SUMMARY:The Future of HVAC Conference 2023
DESCRIPTION:The Future of HVAC is the most important conference for HVAC&R professionals operating in Australia. It is AIRAH’s major annual event. \nJoin us in Melbourne on Wednesday\, September 13 and Thursday\, September 14 for the 10th edition of The Future of HVAC Conference. \nWe look forward to welcoming leading experts\, professionals\, and practitioners in Australian HVAC&R building services. Across two days\, delegates have unparalleled opportunities to network with peers as we explore trends in the built environment and gain deep insights into where our industry is heading.
URL:https://www.inwic.org/event/the-future-of-hvac-conference-2023/
LOCATION:Melbourne\, Melbourne\, Victoria\, Australia
CATEGORIES:Conferences
ATTACH;FMTTYPE=image/png:https://www.inwic.org/wp-content/uploads/2023/03/The-Future-of-HVAC-Conference-2023.png
END:VEVENT
BEGIN:VEVENT
DTSTART;VALUE=DATE:20230914
DTEND;VALUE=DATE:20230915
DTSTAMP:20260421T103533
CREATED:20230329T143157Z
LAST-MODIFIED:20230430T145051Z
UID:770-1694649600-1694735999@www.inwic.org
SUMMARY:Big Data and Analytics Forum 2023
DESCRIPTION:The Big Data and Analytics Forum will be held in Melbourne on Thursday\, September 14 on day two of AIRAH’s Future of HVAC Conference. \nParticipants will have the opportunity to connect with industry leaders from across the built environment as we examine the future of data driven strategies and discuss the ways we\, as an industry\, can improve outcomes from big data analytics.
URL:https://www.inwic.org/event/big-data-and-analytics-forum-2023/
LOCATION:Melbourne\, Melbourne\, Victoria\, Australia
CATEGORIES:Conferences,Meetings,Other
ATTACH;FMTTYPE=image/png:https://www.inwic.org/wp-content/uploads/2023/03/Big-Data-and-Analytics-Forum-2023.png
END:VEVENT
END:VCALENDAR