BEGIN:VCALENDAR
VERSION:2.0
PRODID:-//INWIC - ECPv6.10.1.1//NONSGML v1.0//EN
CALSCALE:GREGORIAN
METHOD:PUBLISH
X-WR-CALNAME:INWIC
X-ORIGINAL-URL:https://www.inwic.org
X-WR-CALDESC:Events for INWIC
REFRESH-INTERVAL;VALUE=DURATION:PT1H
X-Robots-Tag:noindex
X-PUBLISHED-TTL:PT1H
BEGIN:VTIMEZONE
TZID:Europe/Rome
BEGIN:DAYLIGHT
TZOFFSETFROM:+0100
TZOFFSETTO:+0200
TZNAME:CEST
DTSTART:20230326T010000
END:DAYLIGHT
BEGIN:STANDARD
TZOFFSETFROM:+0200
TZOFFSETTO:+0100
TZNAME:CET
DTSTART:20231029T010000
END:STANDARD
TZID:Asia/Kolkata
BEGIN:STANDARD
TZOFFSETFROM:+0530
TZOFFSETTO:+0530
TZNAME:IST
DTSTART:20230101T000000
END:STANDARD
TZID:Europe/Skopje
BEGIN:DAYLIGHT
TZOFFSETFROM:+0100
TZOFFSETTO:+0200
TZNAME:CEST
DTSTART:20230326T010000
END:DAYLIGHT
BEGIN:STANDARD
TZOFFSETFROM:+0200
TZOFFSETTO:+0100
TZNAME:CET
DTSTART:20231029T010000
END:STANDARD
TZID:Europe/Berlin
BEGIN:DAYLIGHT
TZOFFSETFROM:+0100
TZOFFSETTO:+0200
TZNAME:CEST
DTSTART:20230326T010000
END:DAYLIGHT
BEGIN:STANDARD
TZOFFSETFROM:+0200
TZOFFSETTO:+0100
TZNAME:CET
DTSTART:20231029T010000
END:STANDARD
TZID:Asia/Shanghai
BEGIN:STANDARD
TZOFFSETFROM:+0800
TZOFFSETTO:+0800
TZNAME:CST
DTSTART:20230101T000000
END:STANDARD
END:VTIMEZONE
BEGIN:VEVENT
DTSTART;VALUE=DATE:20230608
DTEND;VALUE=DATE:20230610
DTSTAMP:20260419T232229
CREATED:20230606T151640Z
LAST-MODIFIED:20230606T151640Z
UID:1809-1686182400-1686355199@www.inwic.org
SUMMARY:20th European RACHP Conference
DESCRIPTION:Organised under the auspices of the Italian Ministry for the Environment\, the 20th European Conference will take place on June 8-9\, 2023\, and will bring together global leading experts in the field of HVACR. \nThe 20th European Conference is organised by Centro Studi Galileo in cooperation with: \n\nUnited Nations Environment Programme – UNEP\nAir Conditioning and Refrigeration European Association – AREA\nInternational Institute of Refrigeration – IIR\n\nSpecial Women in Refrigeration and Air Conditioning Session on Thursday 8th June\, with presentations from Ina Colombo (IIR and President-Elect of INWIC)\, and Colleen Keyworth (President of INWIC).
URL:https://www.inwic.org/event/20th-european-rachp-conference/
LOCATION:Milan\, Milan\, Italy
CATEGORIES:Conferences
ATTACH;FMTTYPE=image/png:https://www.inwic.org/wp-content/uploads/2023/06/featured-image.png
END:VEVENT
BEGIN:VEVENT
DTSTART;VALUE=DATE:20230510
DTEND;VALUE=DATE:20230512
DTSTAMP:20260419T232229
CREATED:20230329T143939Z
LAST-MODIFIED:20230430T145522Z
UID:773-1683676800-1683849599@www.inwic.org
SUMMARY:ASHRAE Developing Economies Conference
DESCRIPTION:This is the third edition of its successful format of Developing Economies Conference by ASHRAE. \n“The reach is enhanced to include entire Global South economies as they face similar challenges in expanding infrastructure in cost effective manner\,” said Ashish Rakheja\, conference chair. “Post-COVID\, the importance of healthcare and the current pressing environment needs of carbon footprint reduction are the focus area for 2023 conference. The last two editions have demonstrated the benefit of this Conference wherein it offers a two-way learning street for both Developed and Emerging economies and provides an opportunity to the global HVAC&R community to come together to network\, learn and evolve their offerings in making the world a better place\,” he said. The conference will have keynotes\, presentations and panel discussions on current topics and technology demonstrations. \nThe conference theme is “Decarbonizing and Sustaining Growth of Healthcare and Residential Infrastructure in Emerging and Future Markets.” \nThe conference shall focus on aspects relating to Resiliency\, IEQ\, Decarbonization\, Policies\, Digitalization and other tracks. The conference will also address challenges like rapidly growing energy demand\, epidemic effects\, fast-paced advancements\, urbanization\, sustainability and the role to be played by the Global HVAC&R industry to meet the decarbonization targets set during CoP 26. \nThe conference provides the opportunity to bring together people from diverse cultures and climates to deliberate on various aspects of building design\, operation & maintenance that is responsive to local needs and utilize traditional construction practices. The focus shall be application of latest technologies to achieve cost-effective solutions for high performance buildings in emerging economies.
URL:https://www.inwic.org/event/ashrae-developing-economies-conference/
LOCATION:JW Marriott Sahar\, IA Project Rd\, Navpada\, Vile Parle East\, Vile Parle\, Mumbai\, Maharashtra\, 400099\, India
CATEGORIES:Conferences
ATTACH;FMTTYPE=image/png:https://www.inwic.org/wp-content/uploads/2023/03/ASHRAE-Developing-Economies-Conference.png
END:VEVENT
BEGIN:VEVENT
DTSTART;VALUE=DATE:20230427
DTEND;VALUE=DATE:20230430
DTSTAMP:20260419T232229
CREATED:20230329T152546Z
LAST-MODIFIED:20230430T145627Z
UID:820-1682553600-1682812799@www.inwic.org
SUMMARY:10th IIR Conference on Ammonia and CO2 Refrigeration Technologies
DESCRIPTION:The climate change is a global issue with catastrophic consequences which remind us almost every day. There are alarming projections of GHG emissions including HFCs. In Europe the Regulation No 517/2014 on F-gases has been introduced with many restrictions and gradually phase-down. A new revision is underway in 2023. The 28 Meeting of the Parties (in 2016) adopted an amendment to the Montreal Protocol for gradually phase-down of HFCs (from 2019 to 2047) to achieve 85% reduction. Recently\, new HFC refrigerants (named HFOs) with low GWPs are appeared on the market. However\, in July 2021\, five European member states published their intention to submit a joint proposal for restriction of PFAS\, including HFC and HFO refrigerants. \nThe choice of refrigerant (and technology) has become a very complicated issue. In the RAC industry\, confusion and uncertainties related to working fluids in many applications are continuing. In addition\, there are many groups with diverging interests: chemical companies\, manufacturers of equipment\, distributors\, users\, environmental organizations\, politicians and the public. \nAfter several conversions CFCs -> HCFCs -> HFCs -> HFOs(?)\, the global trend towards using natural refrigerants is intensifying. There are very positive signals in Europe and some parts in the world where expanding use of ammonia\, carbon dioxide and hydrocarbons in various applications is occurring. We will eliminate all uncertainties in the future regarding both Protocols and environmental regulations applying to natural refrigerants. \nOf all refrigerants applied today\, ammonia and CO2 are the oldest that have been used since the 19th century. The topics of the conference are: design of modern ammonia and new CO2 systems and technological innovations\, improving energy efficiency\, various applications\, technical guidelines and safety regulations. It is very clear: by using more ammonia and CO2 refrigerants\, we are employing environmentally friendly technologies.
URL:https://www.inwic.org/event/10th-iir-conference-on-ammonia-and-co2-refrigeration-technologies/
LOCATION:Metropol Lake Resort\, Metropol Lake Resort\, Hotel Metropol\, Nas d. Konjsko\, Ohrid\, Ohrid\, 6000\, North Macedonia
CATEGORIES:Conferences
ATTACH;FMTTYPE=image/jpeg:https://www.inwic.org/wp-content/uploads/2023/03/10th-IIR-Conference-on-Ammonia-and-CO2-Refrigeration-Technologies.jpg
END:VEVENT
BEGIN:VEVENT
DTSTART;VALUE=DATE:20230425
DTEND;VALUE=DATE:20230429
DTSTAMP:20260419T232229
CREATED:20230329T152932Z
LAST-MODIFIED:20230430T145605Z
UID:827-1682380800-1682726399@www.inwic.org
SUMMARY:17th IIR Conference on Cryogenics
DESCRIPTION:The 17th CRYOGENICS 2023 still continues in the series of conferences held every two years.\nThe conference will deal with problems of the equipment and technologies with temperatures below 120 K (-153°C)\, as well as with other devices and technologies related to the topic. \nThe 17th Cryogenics 2023 is again a joint Conference of the IIR Commissions: \n\nA1 (Cryophysics\, Cryoengineering)\nA2 (Liquefaction and Separation of Gases)\nC1 (Cryobiology\, Cryomedicine)
URL:https://www.inwic.org/event/17th-iir-conference-on-cryogenics/
LOCATION:Dorint Hotel Dresden\, Dorint Hotel Dresden\, : Grunaer Str. 14\, Dresden\, Saxony\, 01069\, Germany
CATEGORIES:Conferences
ATTACH;FMTTYPE=image/png:https://www.inwic.org/wp-content/uploads/2023/03/17th-IIR-Conference-on-Cryogenics.png
END:VEVENT
BEGIN:VEVENT
DTSTART;VALUE=DATE:20230405
DTEND;VALUE=DATE:20230408
DTSTAMP:20260419T232229
CREATED:20230329T153441Z
LAST-MODIFIED:20230430T145545Z
UID:832-1680652800-1680911999@www.inwic.org
SUMMARY:3rd IIR Conference on HFO Refrigerants and Low GWP Blends
DESCRIPTION:With HFC phase-down now being implemented across Europe\, and likely to be adopted in many other regions\, the IIR Conference on HFO Refrigerants and Low GWP Blends offers an opportunity for those developing new working fluids to meet with the equipment design engineers who provide products\, and the system installers who use them\, as well as with representatives of the end-user community who have to live with the consequences of these scientific and technical decisions. \nThe conference covered essential information on the characteristics of HFO Refrigerants and Low GWP Blends\, system and component design\, lubricants\, flammability\, safety\, environmental impact\, efficiency\, legislation\, codes of practice and standards.
URL:https://www.inwic.org/event/3rd-iir-conference-on-hfo-refrigerants-and-low-gwp-blends/
LOCATION:Grand Mercure Shanghai Century Park\, Grand Mercure Shanghai Century Park\, 1199 Ying Chun Road\, Shanghai\, 200135\, China
CATEGORIES:Conferences
ATTACH;FMTTYPE=image/jpeg:https://www.inwic.org/wp-content/uploads/2023/03/3rd-IIR-Conference-on-HFO-Refrigerants-and-Low-GWP-Blends.jpg
END:VEVENT
END:VCALENDAR