BEGIN:VCALENDAR
VERSION:2.0
PRODID:-//INWIC - ECPv6.10.1.1//NONSGML v1.0//EN
CALSCALE:GREGORIAN
METHOD:PUBLISH
X-WR-CALNAME:INWIC
X-ORIGINAL-URL:https://www.inwic.org
X-WR-CALDESC:Events for INWIC
REFRESH-INTERVAL;VALUE=DURATION:PT1H
X-Robots-Tag:noindex
X-PUBLISHED-TTL:PT1H
BEGIN:VTIMEZONE
TZID:Europe/London
BEGIN:DAYLIGHT
TZOFFSETFROM:+0000
TZOFFSETTO:+0100
TZNAME:BST
DTSTART:20260329T010000
END:DAYLIGHT
BEGIN:STANDARD
TZOFFSETFROM:+0100
TZOFFSETTO:+0000
TZNAME:GMT
DTSTART:20261025T010000
END:STANDARD
END:VTIMEZONE
BEGIN:VEVENT
DTSTART;VALUE=DATE:20260820
DTEND;VALUE=DATE:20260823
DTSTAMP:20260419T151722
CREATED:20260306T130617Z
LAST-MODIFIED:20260306T130617Z
UID:3576-1787184000-1787443199@www.inwic.org
SUMMARY:ISHRAE Cool Conclave 3.0
DESCRIPTION:The upcoming Cool Conclave 3.0 will bring together industry leaders\, policymakers\, and innovators to discuss the future of sustainable cooling in the HVACR sector. The event will focus on advancing energy efficiency\, decarbonization\, and climate-resilient solutions for the industry. More information is available at this link: https://ishraecoolconclave.com/
URL:https://www.inwic.org/event/ishrae-cool-conclave-3-0/
LOCATION:Coimbatore\, Tamil Nadu\, India
ATTACH;FMTTYPE=image/jpeg:https://www.inwic.org/wp-content/uploads/2026/03/Ishrae-Web-Banners-1920-X-600-02.jpg-scaled-1.jpeg
END:VEVENT
END:VCALENDAR